BEGIN:VCALENDAR
VERSION:2.0
PRODID:-//www.bbirh.org//NONSGML kigkonsult.se iCalcreator 2.30.10//
CALSCALE:GREGORIAN
METHOD:PUBLISH
UID:9777b59a-c858-4405-96a9-aa14e7757466
X-WR-CALDESC:Dear All\,\n\nPlease join us as we offer prayer and meditation
  to all the people of the world\n\nEach week a Graduate of the Barbara Bre
 nnan School of Healing leads the community in a specified intention.\n\nTh
 is event is open to the public so please feel free to pass this invitation
  among friends and family that want to join us for these group events.  At
  this time\, we have a participant capacity of 500.\n\nTo convert the even
 t time to the local time in your area:  https://www.thetimezoneconverter.c
 om\n\nWith Gratitude\n ___________________________________________________
 ________________\n\nBBSH is inviting you to a scheduled Zoom meeting.\nTop
 ic: BBSH's Zoom Meeting\nTime: 12Pm Eastern Time\n\nJoin Zoom Meeting\nhtt
 ps://zoom.us/j/6490714815?pwd=NWdqMzA4R3pFNVl0MFllVGRRZ2JOdz09\n\nMeeting 
 ID: 649 071 4815\nPassword: BBSH\n\nOne tap mobile\n+16465588656\,\,649071
 4815#\,\,#\,766454# US (New York)\n+13126266799\,\,6490714815#\,\,#\,76645
 4# US (Chicago)\n\nDial by your location\n+1 646 558 8656 US (New York)\n+
 1 312 626 6799 US (Chicago)\n+1 301 715 8592 US\n+1 346 248 7799 US (Houst
 on)\n+1 669 900 6833 US (San Jose)\n+1 253 215 8782 US\n\nIf you are using
  a phone\nMeeting ID: 649 071 4815\nPassword: 766454\nFind your local numb
 er: https://zoom.us/u/aeeBx0wuWR\n________________________________________
 ___________________________\n\nFor more about the Barbara Brennan School o
 f Healing www.barbarabrennan.com.\n\n\n
X-WR-RELCALID:87e5de9593e858675c1e168ab2c70a35
X-WR-TIMEZONE:America/New_York
BEGIN:VTIMEZONE
TZID:America/New_York
BEGIN:STANDARD
TZNAME:EST
DTSTART:20211107T020000
TZOFFSETFROM:-0400
TZOFFSETTO:-0500
RDATE:20221106T020000
RDATE:20231105T020000
END:STANDARD
BEGIN:DAYLIGHT
TZNAME:EDT
DTSTART:20220313T020000
TZOFFSETFROM:-0500
TZOFFSETTO:-0400
RDATE:20230312T020000
RDATE:20240310T020000
END:DAYLIGHT
END:VTIMEZONE
BEGIN:VEVENT
UID:87133ac9-a804-4496-8b7b-a32d4228cac5
DTSTAMP:20260423T164739Z
DESCRIPTION:Dear All\,\n\nPlease join us as we offer prayer and meditation 
 to all the people of the world\n\nEach week a Graduate of the Barbara Bren
 nan School of Healing leads the community in a specified intention.\n\nThi
 s event is open to the public so please feel free to pass this invitation 
 among friends and family that want to join us for these group events.  At 
 this time\, we have a participant capacity of 500.\n\nTo convert the event
  time to the local time in your area:  https://www.thetimezoneconverter.co
 m\n\nWith Gratitude\n ____________________________________________________
 _______________\n\nBBSH is inviting you to a scheduled Zoom meeting.\nTopi
 c: BBSH's Zoom Meeting\nTime: 12Pm Eastern Time\n\nJoin Zoom Meeting\nhttp
 s://zoom.us/j/6490714815?pwd=NWdqMzA4R3pFNVl0MFllVGRRZ2JOdz09\n\nMeeting I
 D: 649 071 4815\nPassword: BBSH\n\nOne tap mobile\n+16465588656\,\,6490714
 815#\,\,#\,766454# US (New York)\n+13126266799\,\,6490714815#\,\,#\,766454
 # US (Chicago)\n\nDial by your location\n+1 646 558 8656 US (New York)\n+1
  312 626 6799 US (Chicago)\n+1 301 715 8592 US\n+1 346 248 7799 US (Housto
 n)\n+1 669 900 6833 US (San Jose)\n+1 253 215 8782 US\n\nIf you are using 
 a phone\nMeeting ID: 649 071 4815\nPassword: 766454\nFind your local numbe
 r: https://zoom.us/u/aeeBx0wuWR\n_________________________________________
 __________________________\n\nFor more about the Barbara Brennan School of
  Healing www.barbarabrennan.com.\n\n\n
DTSTART;TZID=America/New_York:20221030T120000
DTEND;TZID=America/New_York:20221030T150000
LOCATION:On Zoom.
SUMMARY:World Wide Meditation
END:VEVENT
END:VCALENDAR
