BEGIN:VCALENDAR
VERSION:2.0
PRODID:-//www.bbirh.org//NONSGML kigkonsult.se iCalcreator 2.30.10//
CALSCALE:GREGORIAN
METHOD:PUBLISH
UID:5584e6b7-20eb-48a5-b027-b63fe00c92f0
X-WR-CALDESC:Join with storyteller Sola on a journey in to the Medicine of 
 Myth.
X-WR-RELCALID:fb685818026093cc8490d4ff9ac8ce4e
X-WR-TIMEZONE:America/New_York
BEGIN:VTIMEZONE
TZID:America/New_York
BEGIN:STANDARD
TZNAME:EST
DTSTART:20201101T020000
TZOFFSETFROM:-0400
TZOFFSETTO:-0500
RDATE:20211107T020000
RDATE:20221106T020000
END:STANDARD
BEGIN:DAYLIGHT
TZNAME:EDT
DTSTART:20210314T020000
TZOFFSETFROM:-0500
TZOFFSETTO:-0400
RDATE:20220313T020000
END:DAYLIGHT
END:VTIMEZONE
BEGIN:VEVENT
UID:2bd527dd-0a62-4de6-b4c0-508366fadb37
DTSTAMP:20260423T025407Z
DESCRIPTION:Join with storyteller Sola on a journey in to the Medicine of M
 yth.
DTSTART;TZID=America/New_York:20210617T140000
DTEND;TZID=America/New_York:20210617T153000
LOCATION:On Zoom
SUMMARY:Mythic Medicine
END:VEVENT
END:VCALENDAR
