BEGIN:VCALENDAR
VERSION:2.0
PRODID:-//www.bbirh.org//NONSGML kigkonsult.se iCalcreator 2.30.10//
CALSCALE:GREGORIAN
METHOD:PUBLISH
UID:ad724a31-fb3e-4b78-8b34-9759c9dc3081
X-WR-CALDESC:Join with storyteller Sola on a journey in to the Medicine of 
 Myth.
X-WR-RELCALID:213affd0ef2174d6495cdc3b86be7ce7
X-WR-TIMEZONE:America/New_York
BEGIN:VTIMEZONE
TZID:America/New_York
BEGIN:STANDARD
TZNAME:EST
DTSTART:20201101T020000
TZOFFSETFROM:-0400
TZOFFSETTO:-0500
RDATE:20211107T020000
RDATE:20221106T020000
END:STANDARD
BEGIN:DAYLIGHT
TZNAME:EDT
DTSTART:20210314T020000
TZOFFSETFROM:-0500
TZOFFSETTO:-0400
RDATE:20220313T020000
END:DAYLIGHT
END:VTIMEZONE
BEGIN:VEVENT
UID:9b2c7025-a696-42c2-874c-003c6455e981
DTSTAMP:20260423T041203Z
DESCRIPTION:Join with storyteller Sola on a journey in to the Medicine of M
 yth.
DTSTART;TZID=America/New_York:20210527T140000
DTEND;TZID=America/New_York:20210527T153000
LOCATION:On Zoom
SUMMARY:Mythic Medicine
END:VEVENT
END:VCALENDAR
