BEGIN:VCALENDAR
VERSION:2.0
PRODID:-//www.bbirh.org//NONSGML kigkonsult.se iCalcreator 2.30.10//
CALSCALE:GREGORIAN
METHOD:PUBLISH
UID:77f0c410-ecc2-405d-8d24-db0517dbe400
X-WR-CALDESC:Join with storyteller Sola on a journey in to the Medicine of 
 Myth.
X-WR-RELCALID:df940c05f1e6fa730197fb0d1459ee84
X-WR-TIMEZONE:America/New_York
BEGIN:VTIMEZONE
TZID:America/New_York
BEGIN:STANDARD
TZNAME:EST
DTSTART:20201101T020000
TZOFFSETFROM:-0400
TZOFFSETTO:-0500
RDATE:20211107T020000
END:STANDARD
BEGIN:DAYLIGHT
TZNAME:EDT
DTSTART:20210314T020000
TZOFFSETFROM:-0500
TZOFFSETTO:-0400
RDATE:20220313T020000
END:DAYLIGHT
END:VTIMEZONE
BEGIN:VEVENT
UID:c295ec4e-8315-49a9-8f77-252faf9ac4b1
DTSTAMP:20260423T041348Z
DESCRIPTION:Join with storyteller Sola on a journey in to the Medicine of M
 yth.
DTSTART;TZID=America/New_York:20210506T140000
DTEND;TZID=America/New_York:20210506T153000
LOCATION:On Zoom
SUMMARY:Mythic Medicine
END:VEVENT
END:VCALENDAR
