BEGIN:VCALENDAR
VERSION:2.0
PRODID:-//www.bbirh.org//NONSGML kigkonsult.se iCalcreator 2.30.10//
CALSCALE:GREGORIAN
METHOD:PUBLISH
UID:a6671ebc-4766-4553-9b69-ccd48e0089ee
X-WR-CALDESC:Join with storyteller Sola on a journey in to the Medicine of 
 Myth.
X-WR-RELCALID:7455f71e664ddc0a9d5067a0b9a4520c
X-WR-TIMEZONE:America/New_York
BEGIN:VTIMEZONE
TZID:America/New_York
BEGIN:STANDARD
TZNAME:EST
DTSTART:20201101T020000
TZOFFSETFROM:-0400
TZOFFSETTO:-0500
RDATE:20211107T020000
END:STANDARD
BEGIN:DAYLIGHT
TZNAME:EDT
DTSTART:20210314T020000
TZOFFSETFROM:-0500
TZOFFSETTO:-0400
RDATE:20220313T020000
END:DAYLIGHT
END:VTIMEZONE
BEGIN:VEVENT
UID:70ce28d6-560d-4a1a-a1a7-9ecc769d89f4
DTSTAMP:20260423T052406Z
DESCRIPTION:Join with storyteller Sola on a journey in to the Medicine of M
 yth.
DTSTART;TZID=America/New_York:20210422T140000
DTEND;TZID=America/New_York:20210422T153000
LOCATION:On Zoom
SUMMARY:Mythic Medicine
END:VEVENT
END:VCALENDAR
