BEGIN:VCALENDAR
VERSION:2.0
PRODID:-//www.bbirh.org//NONSGML kigkonsult.se iCalcreator 2.30.10//
CALSCALE:GREGORIAN
METHOD:PUBLISH
UID:36d77aba-40ce-44ec-9ae5-a5a330787c93
X-WR-CALDESC:BBSH LGBTQIA+ HMD Lecture - February 25\, 2021\, 1:30-3pm EST
 \nLGBQTIA+ Who Am I? Who Are You? Healing & Evolving\nPerspectives from Le
 sbian\, Gay\, & Transgender BBSH Graduates and former faculty \n\nWe invit
 e you to join us for an exploration of self-discovery through gender and s
 exuality.  Come listen to the stories of Ky Scott\, Sandy Rakowitz\, and D
 eckllan Marckle Hartte as they share their experiences growing up outside 
 of the heteronormative gender-binary.  We hope that this space offers you 
 a deepening of self discovery as you ask what it means to you to be a man\
 , woman\, or non-binary individual.  How does your sexuality serve you in 
 your unique journey of self-awareness?\n\n*************************\nKy (u
 ses pronouns he/him) has a BA in multi-cultural education from the Univers
 ity of Maryland.  He went on to complete his MA coursework in English Lite
 rature\, focusing on gender and sexuality\, and taught Beginning Writing a
 t Florida Atlantic University.  \n\nKy then trained and worked as a Licens
 ed Massage Therapist.  After completing his bodywork training\, he helped 
 assist Body Electric workshops.  These workshops grew out of the AIDS epid
 emic and the need for gay men to find safer ways of experiencing/expressin
 g their intimacy and connection to the Divine.\n\nKy graduated BBSH 2002\,
  ASBIW in 2004\, and was then hired to teach\, serving on both the sophomo
 re and senior year teams.  His senior class project at BBSH was on “Sexual
  Fantasy as a Gateway to Understanding Our Childhood Wounding and Core Lon
 ging.”\n\nKy’s private practice has focused on teaching mediation to coupl
 es and families to transform conflict into intimacy.  Currently he is purs
 uing a path to become an Associate Helper in the Mid-Atlantic Pathwork and
  is adjunct faculty at BBSH\, offering support around gender and sexuality
 .\n\nKy’s journey of self discovery has included study/exploration around 
 gender fluidity\, same-sex desire\, bisexuality\, pansexualism\, BDSM (tra
 ining with spiritual leaders in this field)\, and polyamorous vs. monogamo
 us relationships.  He believes that all forms of gender expression and sex
 ual attraction are sacred teachers of our divine nature.  \n**************
 **********\nSandy guides people to find their voice and realize their drea
 ms through innovative Multidimensional Coaching\, Animal Communication and
  Soul Path Programs. Sandy graduated BBSH 1995\, and was on faculty from 1
 995-2001.\n\nAt 27\, Sandy ‘came out of the closet\,’ as a Lesbian. She un
 derstands her choice to incarnate as a Lesbian\, Jew\, Woman\, as one who 
 communicates openly and professionally with animals\, nature\, energy and 
 consciousness across time and dimensions as co-creatively healing for hers
 elf\, humankind and universal consciousness.\n\nSandy stands for believing
  in ‘What is Possible’ co-creating realties that have never before been ab
 le to be in existence - altogether\, at the same time\, openly\, safely\, 
 in her personal life\, publicly\, professionally\, in the name of the high
 est of Light and Love\, all while getting paid well. \n*******************
 ******\nDeckllan Marckle Hartte is a Two Spirit Light Being\, presenting i
 n a Transgender Masculine Experience\; uses the pronouns He/Him.\nDeckllan
  graduated from Barbara Brennan School of Healing in 1995 and Barbara Bren
 nan’s Teacher Training Program in 1998. For over 25 years\, he has been pr
 ofessionally holding space and guiding others on their journey in this lif
 e. \nHe encourages the exploration and recognition of all the parts of one
 ’s self including\, self-love and release into the personal expression of 
 a soul’s longing and heart’s desire.  By openly exploring the idea that it
  ok to love every part of your being\, even those currently suffocated by 
 their self-critic and self-judger\, we can explore the areas that that are
  limited and longing to be released\, seen and loved by you.  The judge wi
 thin us is essential and worthy of love\; it is present to provide objecti
 ve balance and harmony\, not repression and suffering.\nWhen you can progr
 ess through your life in acceptance\, feeling all your emotions\, you are 
 able to be more present\; to create the life you have come here to live mo
 re fully. \n
X-WR-RELCALID:8f8ffedd48b626fe67f063f555858024
X-WR-TIMEZONE:America/New_York
BEGIN:VTIMEZONE
TZID:America/New_York
BEGIN:STANDARD
TZNAME:EST
DTSTART:20201101T020000
TZOFFSETFROM:-0400
TZOFFSETTO:-0500
RDATE:20211107T020000
END:STANDARD
BEGIN:DAYLIGHT
TZNAME:EDT
DTSTART:20200308T020000
TZOFFSETFROM:-0500
TZOFFSETTO:-0400
RDATE:20210314T020000
RDATE:20220313T020000
END:DAYLIGHT
END:VTIMEZONE
BEGIN:VEVENT
UID:46ec60cd-d5d3-4bf5-a338-ad95f8bc351c
DTSTAMP:20260423T081128Z
DESCRIPTION:BBSH LGBTQIA+ HMD Lecture - February 25\, 2021\, 1:30-3pm EST\n
 LGBQTIA+ Who Am I? Who Are You? Healing & Evolving\nPerspectives from Lesb
 ian\, Gay\, & Transgender BBSH Graduates and former faculty \n\nWe invite 
 you to join us for an exploration of self-discovery through gender and sex
 uality.  Come listen to the stories of Ky Scott\, Sandy Rakowitz\, and Dec
 kllan Marckle Hartte as they share their experiences growing up outside of
  the heteronormative gender-binary.  We hope that this space offers you a 
 deepening of self discovery as you ask what it means to you to be a man\, 
 woman\, or non-binary individual.  How does your sexuality serve you in yo
 ur unique journey of self-awareness?\n\n*************************\nKy (use
 s pronouns he/him) has a BA in multi-cultural education from the Universit
 y of Maryland.  He went on to complete his MA coursework in English Litera
 ture\, focusing on gender and sexuality\, and taught Beginning Writing at 
 Florida Atlantic University.  \n\nKy then trained and worked as a Licensed
  Massage Therapist.  After completing his bodywork training\, he helped as
 sist Body Electric workshops.  These workshops grew out of the AIDS epidem
 ic and the need for gay men to find safer ways of experiencing/expressing 
 their intimacy and connection to the Divine.\n\nKy graduated BBSH 2002\, A
 SBIW in 2004\, and was then hired to teach\, serving on both the sophomore
  and senior year teams.  His senior class project at BBSH was on “Sexual F
 antasy as a Gateway to Understanding Our Childhood Wounding and Core Longi
 ng.”\n\nKy’s private practice has focused on teaching mediation to couples
  and families to transform conflict into intimacy.  Currently he is pursui
 ng a path to become an Associate Helper in the Mid-Atlantic Pathwork and i
 s adjunct faculty at BBSH\, offering support around gender and sexuality.
 \n\nKy’s journey of self discovery has included study/exploration around g
 ender fluidity\, same-sex desire\, bisexuality\, pansexualism\, BDSM (trai
 ning with spiritual leaders in this field)\, and polyamorous vs. monogamou
 s relationships.  He believes that all forms of gender expression and sexu
 al attraction are sacred teachers of our divine nature.  \n***************
 *********\nSandy guides people to find their voice and realize their dream
 s through innovative Multidimensional Coaching\, Animal Communication and 
 Soul Path Programs. Sandy graduated BBSH 1995\, and was on faculty from 19
 95-2001.\n\nAt 27\, Sandy ‘came out of the closet\,’ as a Lesbian. She und
 erstands her choice to incarnate as a Lesbian\, Jew\, Woman\, as one who c
 ommunicates openly and professionally with animals\, nature\, energy and c
 onsciousness across time and dimensions as co-creatively healing for herse
 lf\, humankind and universal consciousness.\n\nSandy stands for believing 
 in ‘What is Possible’ co-creating realties that have never before been abl
 e to be in existence - altogether\, at the same time\, openly\, safely\, i
 n her personal life\, publicly\, professionally\, in the name of the highe
 st of Light and Love\, all while getting paid well. \n********************
 *****\nDeckllan Marckle Hartte is a Two Spirit Light Being\, presenting in
  a Transgender Masculine Experience\; uses the pronouns He/Him.\nDeckllan 
 graduated from Barbara Brennan School of Healing in 1995 and Barbara Brenn
 an’s Teacher Training Program in 1998. For over 25 years\, he has been pro
 fessionally holding space and guiding others on their journey in this life
 . \nHe encourages the exploration and recognition of all the parts of one’
 s self including\, self-love and release into the personal expression of a
  soul’s longing and heart’s desire.  By openly exploring the idea that it 
 ok to love every part of your being\, even those currently suffocated by t
 heir self-critic and self-judger\, we can explore the areas that that are 
 limited and longing to be released\, seen and loved by you.  The judge wit
 hin us is essential and worthy of love\; it is present to provide objectiv
 e balance and harmony\, not repression and suffering.\nWhen you can progre
 ss through your life in acceptance\, feeling all your emotions\, you are a
 ble to be more present\; to create the life you have come here to live mor
 e fully. \n
DTSTART;TZID=America/New_York:20210225T133000
DTEND;TZID=America/New_York:20210225T150000
LOCATION:On Zoom- https://zoom.us/j/6490714815?pwd=NWdqMzA4R3pFNVl0MFllVGRR
 Z2JOdz09
SUMMARY:LGBQTIA+ Who Am I? Who Are You? Healing & Evolving
END:VEVENT
END:VCALENDAR
