BEGIN:VCALENDAR
VERSION:2.0
PRODID:-//www.bbirh.org//NONSGML kigkonsult.se iCalcreator 2.30.10//
CALSCALE:GREGORIAN
METHOD:PUBLISH
UID:36fa4858-bc8f-4d5b-bf9d-60241b6c286e
X-WR-CALDESC:Olusola Adebiyi AKA Sola Story has been described as a ‘captiv
 ating African performance Storyteller’ He grew up in a Yoruba (people of w
 hat is now called Nigeria) household and hails from a lineage of orators\,
  priests and hunters. The proverbs and legends he learned as a child from 
 his family\, served as ‘root soil’ in his development over the last 25 yea
 rs as a professional storyteller. Sola Story is also an instructor in a da
 nce like African Martial Science called KaZimba Ngoma and has been since 2
 001. He uses the Manyamas (animal forms) to enhance his storytelling narra
 tives. Speaking of this\, one review of him says:\n“His unique and powerfu
 lly captivating blend of 'Physical Storytelling\,' hypnotic narrative and 
 audience participation\, is inspirational\, unforgettable\, and resonates 
 with audiences of all types”\nSola Story combines Storytelling with Creati
 ve Facilitation and as Founder and Director of Narrative Mindfulness Ltd h
 e has inspired children\, young people and adults in Africa\, the US and U
 K through two key programmes: The Awakening Creative Genius Programme\, he
 lping them develop self  belief\, emotional intelligence and Creative conf
 idence through the power of arts blended with Storytelling. \nMythic Medic
 ine Programme: a conceptual modality that mixes storytelling\, visualisati
 on\,  Mindfulness and Embodiment. It provides keys to  our ability to tune
  in to our intuitive knowing and to bring liberating meaning to life.\nAs 
 an author he published his book Nyinka's Daughter in 2016 and is in the mi
 dst of publishing more.\n\nhttps://zoom.us/j/6490714815?pwd=NWdqMzA4R3pFNV
 l0MFllVGRRZ2JOdz09\n \nMeeting ID: 649 071 4815\nPassword: BBSH\n
X-WR-RELCALID:2268dff0857bf094fa4dc28a1128a457
X-WR-TIMEZONE:America/New_York
BEGIN:VTIMEZONE
TZID:America/New_York
BEGIN:STANDARD
TZNAME:EST
DTSTART:20201101T020000
TZOFFSETFROM:-0400
TZOFFSETTO:-0500
RDATE:20211107T020000
END:STANDARD
BEGIN:DAYLIGHT
TZNAME:EDT
DTSTART:20200308T020000
TZOFFSETFROM:-0500
TZOFFSETTO:-0400
RDATE:20210314T020000
RDATE:20220313T020000
END:DAYLIGHT
END:VTIMEZONE
BEGIN:VEVENT
UID:6c3ceaca-3e59-4d19-98c8-977de5408ad4
DTSTAMP:20260423T104241Z
DESCRIPTION:Olusola Adebiyi AKA Sola Story has been described as a ‘captiva
 ting African performance Storyteller’ He grew up in a Yoruba (people of wh
 at is now called Nigeria) household and hails from a lineage of orators\, 
 priests and hunters. The proverbs and legends he learned as a child from h
 is family\, served as ‘root soil’ in his development over the last 25 year
 s as a professional storyteller. Sola Story is also an instructor in a dan
 ce like African Martial Science called KaZimba Ngoma and has been since 20
 01. He uses the Manyamas (animal forms) to enhance his storytelling narrat
 ives. Speaking of this\, one review of him says:\n“His unique and powerful
 ly captivating blend of 'Physical Storytelling\,' hypnotic narrative and a
 udience participation\, is inspirational\, unforgettable\, and resonates w
 ith audiences of all types”\nSola Story combines Storytelling with Creativ
 e Facilitation and as Founder and Director of Narrative Mindfulness Ltd he
  has inspired children\, young people and adults in Africa\, the US and UK
  through two key programmes: The Awakening Creative Genius Programme\, hel
 ping them develop self  belief\, emotional intelligence and Creative confi
 dence through the power of arts blended with Storytelling. \nMythic Medici
 ne Programme: a conceptual modality that mixes storytelling\, visualisatio
 n\,  Mindfulness and Embodiment. It provides keys to  our ability to tune 
 in to our intuitive knowing and to bring liberating meaning to life.\nAs a
 n author he published his book Nyinka's Daughter in 2016 and is in the mid
 st of publishing more.\n\nhttps://zoom.us/j/6490714815?pwd=NWdqMzA4R3pFNVl
 0MFllVGRRZ2JOdz09\n \nMeeting ID: 649 071 4815\nPassword: BBSH\n
DTSTART;TZID=America/New_York:20201203T120000
DTEND;TZID=America/New_York:20201203T133000
LOCATION:Zoom
SUMMARY:Sola Story
END:VEVENT
END:VCALENDAR
